BEGIN:VCALENDAR
VERSION:2.0
PRODID:-//Sheikh Zayed Children Welfare Center - ECPv6.7.0//NONSGML v1.0//EN
CALSCALE:GREGORIAN
METHOD:PUBLISH
X-WR-CALNAME:Sheikh Zayed Children Welfare Center
X-ORIGINAL-URL:https://sheikhzayed.co.ke
X-WR-CALDESC:Events for Sheikh Zayed Children Welfare Center
REFRESH-INTERVAL;VALUE=DURATION:PT1H
X-Robots-Tag:noindex
X-PUBLISHED-TTL:PT1H
BEGIN:VTIMEZONE
TZID:Africa/Nairobi
BEGIN:STANDARD
TZOFFSETFROM:+0300
TZOFFSETTO:+0300
TZNAME:EAT
DTSTART:20240101T000000
END:STANDARD
END:VTIMEZONE
BEGIN:VEVENT
DTSTART;TZID=Africa/Nairobi:20240217T080000
DTEND;TZID=Africa/Nairobi:20240217T170000
DTSTAMP:20260422T162149
CREATED:20240123T070755Z
LAST-MODIFIED:20240227T090241Z
UID:1076-1708156800-1708189200@sheikhzayed.co.ke
SUMMARY:Prize Giving Day
DESCRIPTION:
URL:https://sheikhzayed.co.ke/event/prize-giving-day/
LOCATION:Sheikh Zayed Hall
CATEGORIES:General
END:VEVENT
END:VCALENDAR